BEGIN:VCALENDAR
VERSION:2.0
PRODID:-//Umeå Nämndemannaförening - ECPv6.15.19//NONSGML v1.0//EN
CALSCALE:GREGORIAN
METHOD:PUBLISH
X-WR-CALNAME:Umeå Nämndemannaförening
X-ORIGINAL-URL:https://umea.nmrf.se
X-WR-CALDESC:Händelser för Umeå Nämndemannaförening
REFRESH-INTERVAL;VALUE=DURATION:PT1H
X-Robots-Tag:noindex
X-PUBLISHED-TTL:PT1H
BEGIN:VTIMEZONE
TZID:Europe/Stockholm
BEGIN:DAYLIGHT
TZOFFSETFROM:+0100
TZOFFSETTO:+0200
TZNAME:CEST
DTSTART:20250330T010000
END:DAYLIGHT
BEGIN:STANDARD
TZOFFSETFROM:+0200
TZOFFSETTO:+0100
TZNAME:CET
DTSTART:20251026T010000
END:STANDARD
BEGIN:DAYLIGHT
TZOFFSETFROM:+0100
TZOFFSETTO:+0200
TZNAME:CEST
DTSTART:20260329T010000
END:DAYLIGHT
BEGIN:STANDARD
TZOFFSETFROM:+0200
TZOFFSETTO:+0100
TZNAME:CET
DTSTART:20261025T010000
END:STANDARD
BEGIN:DAYLIGHT
TZOFFSETFROM:+0100
TZOFFSETTO:+0200
TZNAME:CEST
DTSTART:20270328T010000
END:DAYLIGHT
BEGIN:STANDARD
TZOFFSETFROM:+0200
TZOFFSETTO:+0100
TZNAME:CET
DTSTART:20271031T010000
END:STANDARD
END:VTIMEZONE
BEGIN:VEVENT
DTSTART;TZID=Europe/Stockholm:20260212T180000
DTEND;TZID=Europe/Stockholm:20260212T190000
DTSTAMP:20260419T192711
CREATED:20260304T131743Z
LAST-MODIFIED:20260304T132257Z
UID:2204-1770919200-1770922800@umea.nmrf.se
SUMMARY:Föreläsning av Brottsofferjouren
DESCRIPTION:Brottsofferjouren är en ideell\, politiskt och religiöst obunden organisation som ger stöd till brottsoffer\, vittnen och anhöriga. \nPersonal från Brottsofferjouren kommer hålla en föreläsning på föreningens årsmöte om deras organisation\, uppdrag\, arbetssätt\, m.m.
URL:https://umea.nmrf.se/event/forelasning-av-brottsofferjouren/
LOCATION:Tingshuset\, Nygatan 45\, Umeå
ATTACH;FMTTYPE=image/jpeg:https://umea.nmrf.se/wp-content/uploads/sites/14/2023/11/BOJ-e1698870637549.jpg
END:VEVENT
END:VCALENDAR