BEGIN:VCALENDAR
VERSION:2.0
PRODID:-//Umeå Nämndemannaförening - ECPv6.15.19//NONSGML v1.0//EN
CALSCALE:GREGORIAN
METHOD:PUBLISH
X-WR-CALNAME:Umeå Nämndemannaförening
X-ORIGINAL-URL:https://umea.nmrf.se
X-WR-CALDESC:Händelser för Umeå Nämndemannaförening
REFRESH-INTERVAL;VALUE=DURATION:PT1H
X-Robots-Tag:noindex
X-PUBLISHED-TTL:PT1H
BEGIN:VTIMEZONE
TZID:Europe/Stockholm
BEGIN:DAYLIGHT
TZOFFSETFROM:+0100
TZOFFSETTO:+0200
TZNAME:CEST
DTSTART:20220327T010000
END:DAYLIGHT
BEGIN:STANDARD
TZOFFSETFROM:+0200
TZOFFSETTO:+0100
TZNAME:CET
DTSTART:20221030T010000
END:STANDARD
BEGIN:DAYLIGHT
TZOFFSETFROM:+0100
TZOFFSETTO:+0200
TZNAME:CEST
DTSTART:20230326T010000
END:DAYLIGHT
BEGIN:STANDARD
TZOFFSETFROM:+0200
TZOFFSETTO:+0100
TZNAME:CET
DTSTART:20231029T010000
END:STANDARD
BEGIN:DAYLIGHT
TZOFFSETFROM:+0100
TZOFFSETTO:+0200
TZNAME:CEST
DTSTART:20240331T010000
END:DAYLIGHT
BEGIN:STANDARD
TZOFFSETFROM:+0200
TZOFFSETTO:+0100
TZNAME:CET
DTSTART:20241027T010000
END:STANDARD
END:VTIMEZONE
BEGIN:VEVENT
DTSTART;TZID=Europe/Stockholm:20230420T180000
DTEND;TZID=Europe/Stockholm:20230420T200000
DTSTAMP:20260422T141818
CREATED:20230110T155744Z
LAST-MODIFIED:20230110T155744Z
UID:1102-1682013600-1682020800@umea.nmrf.se
SUMMARY:Familjerätten. Uppdrag\, arbetssätt mm
DESCRIPTION:Familjerätten. Uppdrag\, arbetssätt mm\nFöreträdare för familjerätten/socialtjänsten
URL:https://umea.nmrf.se/event/familjeratten-uppdrag-arbetssatt-mm/
LOCATION:Tingshuset\, Nygatan 45\, Umeå
ATTACH;FMTTYPE=image/jpeg:https://umea.nmrf.se/wp-content/uploads/sites/14/2023/01/2-Familj.jpg
END:VEVENT
END:VCALENDAR